BEGIN:VCALENDAR
VERSION:2.0
PRODID:-//hacksw/handcal//NONSGML v1.0//EN
BEGIN:VEVENT
SUMMARY:Seniors
UID:27c7bc23-f03c-499a-9572-c718ff86f09d
DTSTART:20110909T220000Z
DTEND:20110910T220000Z
LOCATION:Localisation   
CATEGORIES:Sportif
STATUS:
DESCRIPTION:Tournoi amical a Pont Audemer
URL;VALUE=URI:https://www.rugbyclubyvetotais.com/evenements/2011/09/10/seniors-16902
END:VEVENT
END:VCALENDAR
