BEGIN:VCALENDAR
VERSION:2.0
PRODID:-//hacksw/handcal//NONSGML v1.0//EN
BEGIN:VEVENT
SUMMARY:Seniors
UID:67aa4d27-7ffa-411f-b5a6-ec8a66653391
DTSTART:20110902T220000Z
DTEND:20110903T220000Z
LOCATION:Localisation   
CATEGORIES:Sportif
STATUS:
DESCRIPTION:stage les 3 & 4 septembre (lieu a determiner)
URL;VALUE=URI:https://www.rugbyclubyvetotais.com/evenements/2011/09/03/seniors-16903
END:VEVENT
END:VCALENDAR
