BEGIN:VCALENDAR
VERSION:2.0
PRODID:-//hacksw/handcal//NONSGML v1.0//EN
BEGIN:VEVENT
SUMMARY:U7 / U9
UID:566c573e-3f6f-46c8-85a2-06bc13c47aa0
DTSTART:20110618T220000Z
DTEND:20110619T220000Z
LOCATION:Localisation   
CATEGORIES:Sportif
STATUS:
DESCRIPTION:Finales territoriales
URL;VALUE=URI:https://www.rugbyclubyvetotais.com/evenements/2011/06/19/u7-u9-16822
END:VEVENT
END:VCALENDAR
