BEGIN:VCALENDAR
VERSION:2.0
PRODID:-//hacksw/handcal//NONSGML v1.0//EN
BEGIN:VEVENT
SUMMARY:24h00 de la foire a tout
UID:1399033d-17f1-4862-a5af-0c9bf9455bdd
DTSTART:20110618T220000Z
DTEND:20110619T220000Z
LOCATION:Localisation   
CATEGORIES:Sportif
STATUS:
DESCRIPTION:parking du champ de foire - rue Retimare - Yvetot
URL;VALUE=URI:https://www.rugbyclubyvetotais.com/evenements/2011/06/19/24h00-de-la-foire-a-tout-16807
END:VEVENT
END:VCALENDAR
