BEGIN:VCALENDAR
VERSION:2.0
PRODID:-//hacksw/handcal//NONSGML v1.0//EN
BEGIN:VEVENT
SUMMARY:Journee des Copains
UID:5bf94573-1b36-473d-b377-49e8d1abc524
DTSTART:20110610T220000Z
DTEND:20110611T220000Z
LOCATION:Localisation   
CATEGORIES:Sportif
STATUS:
DESCRIPTION:Toute la journee, Complexe de la Plaine des Sports,
 Yvetot
URL;VALUE=URI:https://www.rugbyclubyvetotais.com/evenements/2011/06/11/journee-des-copains-16821
END:VEVENT
END:VCALENDAR
