BEGIN:VCALENDAR
VERSION:2.0
PRODID:-//hacksw/handcal//NONSGML v1.0//EN
BEGIN:VEVENT
SUMMARY:Ecole de rugby (U7 / U9 / U11)
UID:9ca37adc-3c7e-4109-8b39-5837b48d6a0c
DTSTART:20110408T220000Z
DTEND:20110409T220000Z
LOCATION:Localisation   
CATEGORIES:Sportif
STATUS:
DESCRIPTION:Tournoi a Yvetot.
URL;VALUE=URI:https://www.rugbyclubyvetotais.com/evenements/2011/04/09/ecole-de-rugby-u7-u9-u11-16824
END:VEVENT
END:VCALENDAR
